BEGIN:VCALENDAR
PRODID:NingEventWidget-v1
VERSION:2.0
METHOD:PUBLISH
BEGIN:VTIMEZONE
TZID:America/Barbados
X-LIC-LOCATION:America/Barbados
BEGIN:STANDARD
TZOFFSETFROM:-0400
TZOFFSETTO:-0400
TZNAME:AST
DTSTART:19700101T000000
END:STANDARD
END:VTIMEZONE
BEGIN:VEVENT
UID:2540074:Event:183828
DTSTAMP:20260423T021132Z
SUMMARY:Aplicaciones prÃ¡cticas de la Inteligencia Artificial en el au
 la
DESCRIPTION:\nInmersiÃ³n en las posibilidades que la inteligencia arti
 ficial ofrece para la tarea docente en el aula virtual/presencial en t
 odos los niveles de enseÃ±anza y en capacitaciÃ³n empresarial. La Inte
 ligencia Artificial (IA) facilita el trabajo, maximiza la productivida
 d, optimiza los tiempos, permite crear contenidos innovadores y genera
 r evaluaciones que desafÃ­en el pensamiento crÃ­tico de los estudiante
 s.\nCon la aprobaciÃ³n, los participantes recibirÃ¡n un certificado ve
 rificable e insignias que podrÃ¡n publicar en LinkedIn. Esto permitirÃ
 ¡ demostrar las competencias desarrolladas y asÃ­ aumentar sus posibil
 idades de empleo con la certificaciÃ³n de Net-Learning.\nDestinatarios
 : Docentes, profesionales de la formaciÃ³n online, diseÃ±adores de cur
 sos, y cualquier persona interesada en aprovechar los beneficios de la
  inteligencia artificial para mejorar la efectividad de la enseÃ±anza 
 y el aprendizaje en el aula virtual o presencial.\nCarga horaria:Â 4 s
 emanas (25 horas)\n\nInicio: 24 de junio\nPromociÃ³n: 15% OFF en inscr
 ipciones\n\nMÃ¡s informaciÃ³n: Aplicaciones prÃ¡cticas de la Inteligen
 cia Artificial en el aula\n\nConsultas:\ninfo@net-learning.com.ar\nWha
 tsApp: +54 911 3780 8751\n\nFor more information visit https://educapr
 .ning.com/events/aplicaciones-pr-cticas-de-la-inteligencia-artificial-
 en-el-aula
DTSTART;TZID=America/Barbados:20240624T120000
DTEND;TZID=America/Barbados:20240722T120000
CATEGORIES:curso, online, ia, para, e-learning
LOCATION:Internet - Se cursa ONLINE - Sin asistencia presencial ni hor
 arios fijos.
WEBSITE:https://www.net-learning.com.ar/curso/aplicaciones-practicas-d
 e-la-inteligencia-artificial-en-el-aula
URL:https://www.net-learning.com.ar/curso/aplicaciones-practicas-de-la
 -inteligencia-artificial-en-el-aula
CONTACT:+54 911 3780 8751
ORGANIZER;CN="Susana Trabaldo":https://educapr.ning.com/profile/Susana
 Trabaldo
ATTACH;FMTTYPE="image/jpeg":https://storage.ning.com/topology/rest/1.0
 /file/get/1775406322?profile=original
ATTENDEE;ROLE=REQ-PARTICIPANT;PARTSTAT=ACCEPTED;RSVP=TRUE;CN="Susana T
 rabaldo":https://educapr.ning.com/profile/SusanaTrabaldo
END:VEVENT
END:VCALENDAR
