BEGIN:VCALENDAR
PRODID:NingEventWidget-v1
VERSION:2.0
METHOD:PUBLISH
BEGIN:VTIMEZONE
TZID:America/Barbados
X-LIC-LOCATION:America/Barbados
BEGIN:STANDARD
TZOFFSETFROM:-0400
TZOFFSETTO:-0400
TZNAME:AST
DTSTART:19700101T000000
END:STANDARD
END:VTIMEZONE
BEGIN:VEVENT
UID:2540074:Event:125020
DTSTAMP:20260425T180408Z
SUMMARY:::Curso ONLINE Gestión de Tecnologías para E-Learning::
DESCRIPTION:El curso “Gestión de Tecnologías para E-Learning” ti
 ene como objetivos describir los aspectos tecnológicos del e-learning
 , seleccionar tecnologías de acuerdo con el proyecto a implementar, r
 econocer y definir distintos tipos de funcionalidades en varias plataf
 ormas.\nCertificado por la Universidad Tecnológica Nacional.\nMás in
 formación: http://net-learning.com.ar/9-gestion-de-tecnologias-para-e
 -learning-\nConsultas:\ninfo@net-learning.com.ar Tel.: 54 11 4464 0350
 \n\nFor more information visit https://educapr.ning.com/events/curso-o
 nline-entorno-tecnol-gico-del-e-learning-1
DTSTART;TZID=America/Barbados:20170404T120000
DTEND;TZID=America/Barbados:20170504T120000
CATEGORIES:curso, online, entornos, tecnológicos, plataformas, e-lear
 ning
LOCATION:Internet - Se cursa ONLINE - Sin asistencia presencial ni hor
 arios fijos.
WEBSITE:http://net-learning.com.ar/9-gestion-de-tecnologias-para-e-lea
 rning-
URL:http://net-learning.com.ar/9-gestion-de-tecnologias-para-e-learnin
 g-
CONTACT:54 11 4464 0350
ORGANIZER;CN="Susana Trabaldo":https://educapr.ning.com/profile/Susana
 Trabaldo
ATTACH;FMTTYPE="image/jpeg":http://storage.ning.com/topology/rest/1.0/
 file/get/3014936411?profile=original
ATTENDEE;ROLE=REQ-PARTICIPANT;PARTSTAT=ACCEPTED;RSVP=TRUE;CN="Susana T
 rabaldo":https://educapr.ning.com/profile/SusanaTrabaldo
END:VEVENT
END:VCALENDAR
